BEGIN:VCALENDAR
VERSION:2.0
PRODID:-//PAN - ECPv6.8.1//NONSGML v1.0//EN
CALSCALE:GREGORIAN
METHOD:PUBLISH
X-WR-CALNAME:PAN
X-ORIGINAL-URL:https://poledenamur.be
X-WR-CALDESC:Évènements pour PAN
REFRESH-INTERVAL;VALUE=DURATION:PT1H
X-Robots-Tag:noindex
X-PUBLISHED-TTL:PT1H
BEGIN:VTIMEZONE
TZID:Europe/Paris
BEGIN:DAYLIGHT
TZOFFSETFROM:+0100
TZOFFSETTO:+0200
TZNAME:CEST
DTSTART:20260329T010000
END:DAYLIGHT
BEGIN:STANDARD
TZOFFSETFROM:+0200
TZOFFSETTO:+0100
TZNAME:CET
DTSTART:20261025T010000
END:STANDARD
END:VTIMEZONE
BEGIN:VEVENT
DTSTART;TZID=Europe/Paris:20260421T173000
DTEND;TZID=Europe/Paris:20260421T173000
DTSTAMP:20260421T121745
CREATED:20260316T080721Z
LAST-MODIFIED:20260324T140548Z
UID:11993-1776792600-1776792600@poledenamur.be
SUMMARY:Aménagements raisonnables et accès à l’enseignement supérieur pour les élèves à besoins spécifiques
DESCRIPTION:S’informer sur les différents types de formations et de métiers à partir du 2 mars !À partir du 2 mars\, participe à la carte à un ou plusieurs « Rendez-vous de la (ré)orientation ». Chaque rendez-vous te permet de découvrir les grandes caractéristiques d’un type de formation (haute école\, université\, enseignement pour adultes\, formation en alternance\, etc.) ou de métier (métiers en uniforme\, métiers en pénurie et d’avenir\, etc.). Il s’agit de séances d’information données par des experts de la formation ou du métier concerné. L’occasion de faire le point sur ce qui te convient au mieux pour la suite !  						\n				\n				\n				\n					\n			\n						\n									Informations et programme complet\n					\n					\n		\n				\n				\n					\n				\n				\n						\n					\n			\n						\n				\n			9.		\n				\n					\n		\n				\n			\n						\n				\n							Les métiers du développement durable Par des professionnels de ces métiers\, en collaboration avec la Commission Durabilité et Transitions du PAN Cette séance permet de découvrir les métiers du développement durable par le biais du témoignage de professionnels actifs dans le secteur. Quelles fonctions peut-on occuper dans ce domaine ? Quelles sont les missions de ces professionnels ? En quoi consiste leur travail au quotidien ? Quels parcours de formation permettent d’aboutir à ces métiers ? 						\n				\n					\n		\n					\n		\n				\n						\n					\n			\n						\n				\n			Contact pour plus d'informations et pour s'inscrire		\n				\n				\n							\n							\n					\n			\n						\n				\n			Gentiane Boudrenghien		\n				\n				\n				\n			Conseillère en (ré)orientation\n		\n				\n				\n				\n					\n							\n											\n													\n										081 72 52 28\n									\n								\n											\n													\n										gentiane.boudrenghien@poledenamur.be
URL:https://poledenamur.be/evenement/amenagements-raisonnables-et-acces-a-lenseignement-superieur-pour-les-eleves-a-besoins-specifiques/
LOCATION:Haute École Albert Jacquard\, Place des Cadets 4\, Amphithéâtre B99
CATEGORIES:Accompagner ses élèves,Futurs étudiants
ATTACH;FMTTYPE=image/png:https://poledenamur.be/wp-content/uploads/2026/03/ChESI-Seance-dinfos-eleves-a-besoin-specifiques-scaled.png
END:VEVENT
BEGIN:VEVENT
DTSTART;TZID=Europe/Paris:20260422T150000
DTEND;TZID=Europe/Paris:20260422T163000
DTSTAMP:20260421T121745
CREATED:20260324T131442Z
LAST-MODIFIED:20260324T135213Z
UID:12178-1776870000-1776875400@poledenamur.be
SUMMARY:Les rendez-vous de la (ré)orientation 2026 : L'IFAPME
DESCRIPTION:S’informer sur les différents types de formations et de métiers à partir du 2 mars !À partir du 2 mars\, participe à la carte à un ou plusieurs « Rendez-vous de la (ré)orientation ». Chaque rendez-vous te permet de découvrir les grandes caractéristiques d’un type de formation (haute école\, université\, enseignement pour adultes\, formation en alternance\, etc.) ou de métier (métiers en uniforme\, métiers en pénurie et d’avenir\, etc.). Il s’agit de séances d’information données par des experts de la formation ou du métier concerné. L’occasion de faire le point sur ce qui te convient au mieux pour la suite !  						\n				\n				\n				\n					\n			\n						\n									Informations et programme complet\n					\n					\n		\n				\n				\n					\n				\n				\n						\n					\n			\n						\n				\n			9.		\n				\n					\n		\n				\n			\n						\n				\n							Les métiers du développement durable Par des professionnels de ces métiers\, en collaboration avec la Commission Durabilité et Transitions du PAN Cette séance permet de découvrir les métiers du développement durable par le biais du témoignage de professionnels actifs dans le secteur. Quelles fonctions peut-on occuper dans ce domaine ? Quelles sont les missions de ces professionnels ? En quoi consiste leur travail au quotidien ? Quels parcours de formation permettent d’aboutir à ces métiers ? 						\n				\n					\n		\n					\n		\n				\n						\n					\n			\n						\n				\n			Contact pour plus d'informations et pour s'inscrire		\n				\n				\n							\n							\n					\n			\n						\n				\n			Gentiane Boudrenghien		\n				\n				\n				\n			Conseillère en (ré)orientation\n		\n				\n				\n				\n					\n							\n											\n													\n										081 72 52 28\n									\n								\n											\n													\n										gentiane.boudrenghien@poledenamur.be
URL:https://poledenamur.be/evenement/les-rendez-vous-de-la-reorientation-2026-lifapme-2/
LOCATION:Faculté des sciences économiques\, sociales et de gestion – 2ème étage – local E27\, Rempart de la Vierge\, 8\, Namur\, 5000\, Belgium
CATEGORIES:Étudiants,Futurs étudiants,S'orienter,Se réorienter
ATTACH;FMTTYPE=image/png:https://poledenamur.be/wp-content/uploads/2026/02/Les-RDV-de-la-reorientation-2022-1.png
ORGANIZER;CN="Gentiane Boudrenghien (CR%C3%A9O)":MAILTO:gentiane.boudrenghien@poledenamur.be
END:VEVENT
BEGIN:VEVENT
DTSTART;TZID=Europe/Paris:20260424T090000
DTEND;TZID=Europe/Paris:20260424T100000
DTSTAMP:20260421T121745
CREATED:20260324T131321Z
LAST-MODIFIED:20260324T135240Z
UID:12176-1777021200-1777024800@poledenamur.be
SUMMARY:Les rendez-vous de la (ré)orientation 2026 : L'Enseignement pour Adultes
DESCRIPTION:S’informer sur les différents types de formations et de métiers à partir du 2 mars !À partir du 2 mars\, participe à la carte à un ou plusieurs « Rendez-vous de la (ré)orientation ». Chaque rendez-vous te permet de découvrir les grandes caractéristiques d’un type de formation (haute école\, université\, enseignement pour adultes\, formation en alternance\, etc.) ou de métier (métiers en uniforme\, métiers en pénurie et d’avenir\, etc.). Il s’agit de séances d’information données par des experts de la formation ou du métier concerné. L’occasion de faire le point sur ce qui te convient au mieux pour la suite !  						\n				\n				\n				\n					\n			\n						\n									Informations et programme complet\n					\n					\n		\n				\n				\n					\n				\n				\n						\n					\n			\n						\n				\n			9.		\n				\n					\n		\n				\n			\n						\n				\n							Les métiers du développement durable Par des professionnels de ces métiers\, en collaboration avec la Commission Durabilité et Transitions du PAN Cette séance permet de découvrir les métiers du développement durable par le biais du témoignage de professionnels actifs dans le secteur. Quelles fonctions peut-on occuper dans ce domaine ? Quelles sont les missions de ces professionnels ? En quoi consiste leur travail au quotidien ? Quels parcours de formation permettent d’aboutir à ces métiers ? 						\n				\n					\n		\n					\n		\n				\n						\n					\n			\n						\n				\n			Contact pour plus d'informations et pour s'inscrire		\n				\n				\n							\n							\n					\n			\n						\n				\n			Gentiane Boudrenghien		\n				\n				\n				\n			Conseillère en (ré)orientation\n		\n				\n				\n				\n					\n							\n											\n													\n										081 72 52 28\n									\n								\n											\n													\n										gentiane.boudrenghien@poledenamur.be
URL:https://poledenamur.be/evenement/les-rendez-vous-de-la-reorientation-2026-lenseignement-pour-adultes-2/
LOCATION:Faculté d’informatique – 3e étage – Local I31
CATEGORIES:Étudiants,Futurs étudiants,S'orienter,Se réorienter
ATTACH;FMTTYPE=image/png:https://poledenamur.be/wp-content/uploads/2026/02/Les-RDV-de-la-reorientation-2022-1.png
ORGANIZER;CN="Gentiane Boudrenghien (CR%C3%A9O)":MAILTO:gentiane.boudrenghien@poledenamur.be
END:VEVENT
BEGIN:VEVENT
DTSTART;TZID=Europe/Paris:20260512T150000
DTEND;TZID=Europe/Paris:20260512T163000
DTSTAMP:20260421T121745
CREATED:20260324T133004Z
LAST-MODIFIED:20260324T135302Z
UID:12191-1778598000-1778603400@poledenamur.be
SUMMARY:Les rendez-vous de la (ré)orientation 2026 : Les métiers en pénurie et d'avenir
DESCRIPTION:S’informer sur les différents types de formations et de métiers à partir du 2 mars !À partir du 2 mars\, participe à la carte à un ou plusieurs « Rendez-vous de la (ré)orientation ». Chaque rendez-vous te permet de découvrir les grandes caractéristiques d’un type de formation (haute école\, université\, enseignement pour adultes\, formation en alternance\, etc.) ou de métier (métiers en uniforme\, métiers en pénurie et d’avenir\, etc.). Il s’agit de séances d’information données par des experts de la formation ou du métier concerné. L’occasion de faire le point sur ce qui te convient au mieux pour la suite !  						\n				\n				\n				\n					\n			\n						\n									Informations et programme complet\n					\n					\n		\n				\n				\n					\n				\n				\n						\n					\n			\n						\n				\n			9.		\n				\n					\n		\n				\n			\n						\n				\n							Les métiers du développement durable Par des professionnels de ces métiers\, en collaboration avec la Commission Durabilité et Transitions du PAN Cette séance permet de découvrir les métiers du développement durable par le biais du témoignage de professionnels actifs dans le secteur. Quelles fonctions peut-on occuper dans ce domaine ? Quelles sont les missions de ces professionnels ? En quoi consiste leur travail au quotidien ? Quels parcours de formation permettent d’aboutir à ces métiers ? 						\n				\n					\n		\n					\n		\n				\n						\n					\n			\n						\n				\n			Contact pour plus d'informations et pour s'inscrire		\n				\n				\n							\n							\n					\n			\n						\n				\n			Gentiane Boudrenghien		\n				\n				\n				\n			Conseillère en (ré)orientation\n		\n				\n				\n				\n					\n							\n											\n													\n										081 72 52 28\n									\n								\n											\n													\n										gentiane.boudrenghien@poledenamur.be
URL:https://poledenamur.be/evenement/les-rendez-vous-de-la-reorientation-2026-les-metiers-en-penurie-et-davenir-2/
LOCATION:Faculté des sciences économiques\, sociales et de gestion – Rempart de la Vierge\, 8 – 2e étage local E22
CATEGORIES:Étudiants,Futurs étudiants,S'orienter,Se réorienter
ATTACH;FMTTYPE=image/png:https://poledenamur.be/wp-content/uploads/2026/02/Les-RDV-de-la-reorientation-2022-1.png
ORGANIZER;CN="Gentiane Boudrenghien (CR%C3%A9O)":MAILTO:gentiane.boudrenghien@poledenamur.be
END:VEVENT
BEGIN:VEVENT
DTSTART;TZID=Europe/Paris:20260513T150000
DTEND;TZID=Europe/Paris:20260513T160000
DTSTAMP:20260421T121745
CREATED:20260324T133148Z
LAST-MODIFIED:20260324T135324Z
UID:12196-1778684400-1778688000@poledenamur.be
SUMMARY:Les rendez-vous de la (ré)orientation 2026 : Vivre une expérience à l’étranger
DESCRIPTION:S’informer sur les différents types de formations et de métiers à partir du 2 mars !À partir du 2 mars\, participe à la carte à un ou plusieurs « Rendez-vous de la (ré)orientation ». Chaque rendez-vous te permet de découvrir les grandes caractéristiques d’un type de formation (haute école\, université\, enseignement pour adultes\, formation en alternance\, etc.) ou de métier (métiers en uniforme\, métiers en pénurie et d’avenir\, etc.). Il s’agit de séances d’information données par des experts de la formation ou du métier concerné. L’occasion de faire le point sur ce qui te convient au mieux pour la suite !  						\n				\n				\n				\n					\n			\n						\n									Informations et programme complet\n					\n					\n		\n				\n				\n					\n				\n				\n						\n					\n			\n						\n				\n			9.		\n				\n					\n		\n				\n			\n						\n				\n							Les métiers du développement durable Par des professionnels de ces métiers\, en collaboration avec la Commission Durabilité et Transitions du PAN Cette séance permet de découvrir les métiers du développement durable par le biais du témoignage de professionnels actifs dans le secteur. Quelles fonctions peut-on occuper dans ce domaine ? Quelles sont les missions de ces professionnels ? En quoi consiste leur travail au quotidien ? Quels parcours de formation permettent d’aboutir à ces métiers ? 						\n				\n					\n		\n					\n		\n				\n						\n					\n			\n						\n				\n			Contact pour plus d'informations et pour s'inscrire		\n				\n				\n							\n							\n					\n			\n						\n				\n			Gentiane Boudrenghien		\n				\n				\n				\n			Conseillère en (ré)orientation\n		\n				\n				\n				\n					\n							\n											\n													\n										081 72 52 28\n									\n								\n											\n													\n										gentiane.boudrenghien@poledenamur.be
URL:https://poledenamur.be/evenement/les-rendez-vous-de-la-reorientation-2026-vivre-une-experience-a-letranger-2/
CATEGORIES:Étudiants,Futurs étudiants,S'orienter,Se réorienter
ATTACH;FMTTYPE=image/png:https://poledenamur.be/wp-content/uploads/2026/02/Les-RDV-de-la-reorientation-2022-1.png
ORGANIZER;CN="Gentiane Boudrenghien (CR%C3%A9O)":MAILTO:gentiane.boudrenghien@poledenamur.be
END:VEVENT
BEGIN:VEVENT
DTSTART;TZID=Europe/Paris:20260519T154500
DTEND;TZID=Europe/Paris:20260519T170000
DTSTAMP:20260421T121745
CREATED:20260324T133239Z
LAST-MODIFIED:20260324T135851Z
UID:12198-1779205500-1779210000@poledenamur.be
SUMMARY:Les rendez-vous de la (ré)orientation 2026 : Les métiers du développement durable
DESCRIPTION:S’informer sur les différents types de formations et de métiers à partir du 2 mars !À partir du 2 mars\, participe à la carte à un ou plusieurs « Rendez-vous de la (ré)orientation ». Chaque rendez-vous te permet de découvrir les grandes caractéristiques d’un type de formation (haute école\, université\, enseignement pour adultes\, formation en alternance\, etc.) ou de métier (métiers en uniforme\, métiers en pénurie et d’avenir\, etc.). Il s’agit de séances d’information données par des experts de la formation ou du métier concerné. L’occasion de faire le point sur ce qui te convient au mieux pour la suite !  						\n				\n				\n				\n					\n			\n						\n									Informations et programme complet\n					\n					\n		\n				\n				\n					\n				\n				\n						\n					\n			\n						\n				\n			9.		\n				\n					\n		\n				\n			\n						\n				\n							Les métiers du développement durable Par des professionnels de ces métiers\, en collaboration avec la Commission Durabilité et Transitions du PAN Cette séance permet de découvrir les métiers du développement durable par le biais du témoignage de professionnels actifs dans le secteur. Quelles fonctions peut-on occuper dans ce domaine ? Quelles sont les missions de ces professionnels ? En quoi consiste leur travail au quotidien ? Quels parcours de formation permettent d’aboutir à ces métiers ? 						\n				\n					\n		\n					\n		\n				\n						\n					\n			\n						\n				\n			Contact pour plus d'informations et pour s'inscrire		\n				\n				\n							\n							\n					\n			\n						\n				\n			Gentiane Boudrenghien		\n				\n				\n				\n			Conseillère en (ré)orientation\n		\n				\n				\n				\n					\n							\n											\n													\n										081 72 52 28\n									\n								\n											\n													\n										gentiane.boudrenghien@poledenamur.be
URL:https://poledenamur.be/evenement/les-rendez-vous-de-la-reorientation-2026-les-metiers-du-developpement-durable-2/
CATEGORIES:Étudiants,Futurs étudiants,S'orienter,Se réorienter
ATTACH;FMTTYPE=image/png:https://poledenamur.be/wp-content/uploads/2026/02/Les-RDV-de-la-reorientation-2022-1.png
ORGANIZER;CN="Gentiane Boudrenghien (CR%C3%A9O)":MAILTO:gentiane.boudrenghien@poledenamur.be
END:VEVENT
BEGIN:VEVENT
DTSTART;TZID=Europe/Paris:20260521T140000
DTEND;TZID=Europe/Paris:20260521T170000
DTSTAMP:20260421T121745
CREATED:20260320T091512Z
LAST-MODIFIED:20260320T091639Z
UID:12073-1779372000-1779382800@poledenamur.be
SUMMARY:Comment accueillir la diversité culturelle dans nos établissements d’enseignement supérieur ? Partage du guide des bonnes pratiques et mise en action sur vos campus.
DESCRIPTION:S’informer sur les différents types de formations et de métiers à partir du 2 mars !À partir du 2 mars\, participe à la carte à un ou plusieurs « Rendez-vous de la (ré)orientation ». Chaque rendez-vous te permet de découvrir les grandes caractéristiques d’un type de formation (haute école\, université\, enseignement pour adultes\, formation en alternance\, etc.) ou de métier (métiers en uniforme\, métiers en pénurie et d’avenir\, etc.). Il s’agit de séances d’information données par des experts de la formation ou du métier concerné. L’occasion de faire le point sur ce qui te convient au mieux pour la suite !  						\n				\n				\n				\n					\n			\n						\n									Informations et programme complet\n					\n					\n		\n				\n				\n					\n				\n				\n						\n					\n			\n						\n				\n			9.		\n				\n					\n		\n				\n			\n						\n				\n							Les métiers du développement durable Par des professionnels de ces métiers\, en collaboration avec la Commission Durabilité et Transitions du PAN Cette séance permet de découvrir les métiers du développement durable par le biais du témoignage de professionnels actifs dans le secteur. Quelles fonctions peut-on occuper dans ce domaine ? Quelles sont les missions de ces professionnels ? En quoi consiste leur travail au quotidien ? Quels parcours de formation permettent d’aboutir à ces métiers ? 						\n				\n					\n		\n					\n		\n				\n						\n					\n			\n						\n				\n			Contact pour plus d'informations et pour s'inscrire		\n				\n				\n							\n							\n					\n			\n						\n				\n			Gentiane Boudrenghien		\n				\n				\n				\n			Conseillère en (ré)orientation\n		\n				\n				\n				\n					\n							\n											\n													\n										081 72 52 28\n									\n								\n											\n													\n										gentiane.boudrenghien@poledenamur.be
URL:https://poledenamur.be/evenement/comment-accueillir-la-diversite-culturelle-dans-nos-etablissements-denseignement-superieur-partage-du-guide-des-bonnes-pratiques-et-mise-en-action-sur-vos-campus/
LOCATION:PAN\, rue Godefroid\, 5-7\, Namur\, 5000\, Belgium
CATEGORIES:Membre du supérieur,Se former
ATTACH;FMTTYPE=image/jpeg:https://poledenamur.be/wp-content/uploads/2026/03/Copie-de-CVE-CMI-Affiche-evenement-Different-together-Publication-Instagram.jpg
END:VEVENT
BEGIN:VEVENT
DTSTART;TZID=Europe/Paris:20260528T083000
DTEND;TZID=Europe/Paris:20260528T160000
DTSTAMP:20260421T121745
CREATED:20260312T110347Z
LAST-MODIFIED:20260401T081106Z
UID:11969-1779957000-1779984000@poledenamur.be
SUMMARY:Journée pédagogique 2026
DESCRIPTION:S’informer sur les différents types de formations et de métiers à partir du 2 mars !À partir du 2 mars\, participe à la carte à un ou plusieurs « Rendez-vous de la (ré)orientation ». Chaque rendez-vous te permet de découvrir les grandes caractéristiques d’un type de formation (haute école\, université\, enseignement pour adultes\, formation en alternance\, etc.) ou de métier (métiers en uniforme\, métiers en pénurie et d’avenir\, etc.). Il s’agit de séances d’information données par des experts de la formation ou du métier concerné. L’occasion de faire le point sur ce qui te convient au mieux pour la suite !  						\n				\n				\n				\n					\n			\n						\n									Informations et programme complet\n					\n					\n		\n				\n				\n					\n				\n				\n						\n					\n			\n						\n				\n			9.		\n				\n					\n		\n				\n			\n						\n				\n							Les métiers du développement durable Par des professionnels de ces métiers\, en collaboration avec la Commission Durabilité et Transitions du PAN Cette séance permet de découvrir les métiers du développement durable par le biais du témoignage de professionnels actifs dans le secteur. Quelles fonctions peut-on occuper dans ce domaine ? Quelles sont les missions de ces professionnels ? En quoi consiste leur travail au quotidien ? Quels parcours de formation permettent d’aboutir à ces métiers ? 						\n				\n					\n		\n					\n		\n				\n						\n					\n			\n						\n				\n			Contact pour plus d'informations et pour s'inscrire		\n				\n				\n							\n							\n					\n			\n						\n				\n			Gentiane Boudrenghien		\n				\n				\n				\n			Conseillère en (ré)orientation\n		\n				\n				\n				\n					\n							\n											\n													\n										081 72 52 28\n									\n								\n											\n													\n										gentiane.boudrenghien@poledenamur.be
URL:https://poledenamur.be/evenement/journee-pedagogique-2026/
LOCATION:Haute Ecole de la Province de Namur – Campus provincial – Rue Henri Blès 188 – 190 5000 Namur
CATEGORIES:Enseignant du secondaire,Journées Pédagogiques,Membre du supérieur,Se former,Se former
ATTACH;FMTTYPE=image/png:https://poledenamur.be/wp-content/uploads/2026/04/Com-journee-pedagogique-2.png
ORGANIZER;CN="Am%C3%A9lie Cocinas Garcia (CDES)":MAILTO:amelie.cocinasgarcia@poledenamur.be
END:VEVENT
BEGIN:VEVENT
DTSTART;TZID=Europe/Paris:20260617T133000
DTEND;TZID=Europe/Paris:20260617T163000
DTSTAMP:20260421T121745
CREATED:20260305T123519Z
LAST-MODIFIED:20260306T120341Z
UID:11902-1781703000-1781713800@poledenamur.be
SUMMARY:Face à la détresse psychologique des étudiants : comprendre\, écouter\, orienter
DESCRIPTION:S’informer sur les différents types de formations et de métiers à partir du 2 mars !À partir du 2 mars\, participe à la carte à un ou plusieurs « Rendez-vous de la (ré)orientation ». Chaque rendez-vous te permet de découvrir les grandes caractéristiques d’un type de formation (haute école\, université\, enseignement pour adultes\, formation en alternance\, etc.) ou de métier (métiers en uniforme\, métiers en pénurie et d’avenir\, etc.). Il s’agit de séances d’information données par des experts de la formation ou du métier concerné. L’occasion de faire le point sur ce qui te convient au mieux pour la suite !  						\n				\n				\n				\n					\n			\n						\n									Informations et programme complet\n					\n					\n		\n				\n				\n					\n				\n				\n						\n					\n			\n						\n				\n			9.		\n				\n					\n		\n				\n			\n						\n				\n							Les métiers du développement durable Par des professionnels de ces métiers\, en collaboration avec la Commission Durabilité et Transitions du PAN Cette séance permet de découvrir les métiers du développement durable par le biais du témoignage de professionnels actifs dans le secteur. Quelles fonctions peut-on occuper dans ce domaine ? Quelles sont les missions de ces professionnels ? En quoi consiste leur travail au quotidien ? Quels parcours de formation permettent d’aboutir à ces métiers ? 						\n				\n					\n		\n					\n		\n				\n						\n					\n			\n						\n				\n			Contact pour plus d'informations et pour s'inscrire		\n				\n				\n							\n							\n					\n			\n						\n				\n			Gentiane Boudrenghien		\n				\n				\n				\n			Conseillère en (ré)orientation\n		\n				\n				\n				\n					\n							\n											\n													\n										081 72 52 28\n									\n								\n											\n													\n										gentiane.boudrenghien@poledenamur.be
URL:https://poledenamur.be/evenement/face-a-la-detresse-psychologique-des-etudiants-comprendre-ecouter-orienter-2/
LOCATION:HEAJ\, 54\, rue Godefroid\, Namur\, 5000\, Belgium
CATEGORIES:Accompagner ses étudiants,Étudiants,Membre du supérieur,S'épanouir,Se former
ATTACH;FMTTYPE=image/png:https://poledenamur.be/wp-content/uploads/2026/03/Sante-mentale-RS.png
ORGANIZER;CN="Alice Rasson (Conseill%C3%A8re Vie %C3%89tudiante)":MAILTO:alice.rasson@poledenamur.be
END:VEVENT
END:VCALENDAR