BEGIN:VCALENDAR
VERSION:2.0
PRODID:-//PAN - ECPv6.8.1//NONSGML v1.0//EN
CALSCALE:GREGORIAN
METHOD:PUBLISH
X-WR-CALNAME:PAN
X-ORIGINAL-URL:https://poledenamur.be
X-WR-CALDESC:Évènements pour PAN
REFRESH-INTERVAL;VALUE=DURATION:PT1H
X-Robots-Tag:noindex
X-PUBLISHED-TTL:PT1H
BEGIN:VTIMEZONE
TZID:Europe/Paris
BEGIN:DAYLIGHT
TZOFFSETFROM:+0100
TZOFFSETTO:+0200
TZNAME:CEST
DTSTART:20260329T010000
END:DAYLIGHT
BEGIN:STANDARD
TZOFFSETFROM:+0200
TZOFFSETTO:+0100
TZNAME:CET
DTSTART:20261025T010000
END:STANDARD
END:VTIMEZONE
BEGIN:VEVENT
DTSTART;TZID=Europe/Paris:20260420T093000
DTEND;TZID=Europe/Paris:20260420T123000
DTSTAMP:20260420T012901
CREATED:20260305T123039Z
LAST-MODIFIED:20260306T120249Z
UID:11896-1776677400-1776688200@poledenamur.be
SUMMARY:Face à la détresse psychologique des étudiants : comprendre\, écouter\, orienter
DESCRIPTION:S’informer sur les différents types de formations et de métiers à partir du 2 mars !À partir du 2 mars\, participe à la carte à un ou plusieurs « Rendez-vous de la (ré)orientation ». Chaque rendez-vous te permet de découvrir les grandes caractéristiques d’un type de formation (haute école\, université\, enseignement pour adultes\, formation en alternance\, etc.) ou de métier (métiers en uniforme\, métiers en pénurie et d’avenir\, etc.). Il s’agit de séances d’information données par des experts de la formation ou du métier concerné. L’occasion de faire le point sur ce qui te convient au mieux pour la suite !  						\n				\n				\n				\n					\n			\n						\n									Informations et programme complet\n					\n					\n		\n				\n				\n					\n				\n				\n						\n					\n			\n						\n				\n			9.		\n				\n					\n		\n				\n			\n						\n				\n							Les métiers du développement durable Par des professionnels de ces métiers\, en collaboration avec la Commission Durabilité et Transitions du PAN Cette séance permet de découvrir les métiers du développement durable par le biais du témoignage de professionnels actifs dans le secteur. Quelles fonctions peut-on occuper dans ce domaine ? Quelles sont les missions de ces professionnels ? En quoi consiste leur travail au quotidien ? Quels parcours de formation permettent d’aboutir à ces métiers ? 						\n				\n					\n		\n					\n		\n				\n						\n					\n			\n						\n				\n			Contact pour plus d'informations et pour s'inscrire		\n				\n				\n							\n							\n					\n			\n						\n				\n			Gentiane Boudrenghien		\n				\n				\n				\n			Conseillère en (ré)orientation\n		\n				\n				\n				\n					\n							\n											\n													\n										081 72 52 28\n									\n								\n											\n													\n										gentiane.boudrenghien@poledenamur.be
URL:https://poledenamur.be/evenement/face-a-la-detresse-psychologique-des-etudiants-comprendre-ecouter-orienter/
LOCATION:Hénallux IESN\, Rue Marie-Henriette 53\, Namur\, Namur\, 5000\, Belgium
CATEGORIES:Accompagner ses étudiants,Étudiants,Membre du supérieur,S'épanouir,Se former
ATTACH;FMTTYPE=image/png:https://poledenamur.be/wp-content/uploads/2026/03/Sante-mentale-RS.png
ORGANIZER;CN="Alice Rasson (Conseill%C3%A8re Vie %C3%89tudiante)":MAILTO:alice.rasson@poledenamur.be
END:VEVENT
END:VCALENDAR